BEGIN:VCALENDAR
VERSION:2.0
PRODID:-//Osoyoos Festival Society - ECPv6.15.20//NONSGML v1.0//EN
CALSCALE:GREGORIAN
METHOD:PUBLISH
X-ORIGINAL-URL:https://osoyoosfestivalsociety.ca
X-WR-CALDESC:Events for Osoyoos Festival Society
REFRESH-INTERVAL;VALUE=DURATION:PT1H
X-Robots-Tag:noindex
X-PUBLISHED-TTL:PT1H
BEGIN:VTIMEZONE
TZID:America/Vancouver
BEGIN:DAYLIGHT
TZOFFSETFROM:-0800
TZOFFSETTO:-0700
TZNAME:PDT
DTSTART:20250309T100000
END:DAYLIGHT
BEGIN:STANDARD
TZOFFSETFROM:-0700
TZOFFSETTO:-0800
TZNAME:PST
DTSTART:20251102T090000
END:STANDARD
BEGIN:DAYLIGHT
TZOFFSETFROM:-0800
TZOFFSETTO:-0700
TZNAME:PDT
DTSTART:20260308T100000
END:DAYLIGHT
BEGIN:STANDARD
TZOFFSETFROM:-0700
TZOFFSETTO:-0800
TZNAME:PST
DTSTART:20261101T090000
END:STANDARD
BEGIN:DAYLIGHT
TZOFFSETFROM:-0800
TZOFFSETTO:-0700
TZNAME:PDT
DTSTART:20270314T100000
END:DAYLIGHT
BEGIN:STANDARD
TZOFFSETFROM:-0700
TZOFFSETTO:-0800
TZNAME:PST
DTSTART:20271107T090000
END:STANDARD
END:VTIMEZONE
BEGIN:VEVENT
DTSTART;TZID=America/Vancouver:20260101T110000
DTEND;TZID=America/Vancouver:20260101T150000
DTSTAMP:20260425T100242
CREATED:20241221T020927Z
LAST-MODIFIED:20251106T064001Z
UID:103-1767265200-1767279600@osoyoosfestivalsociety.ca
SUMMARY:THE OSOYOOS DESERT DIP – JANUARY 1\, 2026
DESCRIPTION:THE OSOYOOS DESERT DIP\nNew Years Day 2026 \nRegistration 11am – Gyro Park \nDipping begins at Noon \nStarbucks Coffee & Hot Chocolate\nHeated Tent and Bonfire\nCertificate of Success!\nPrizes for costumes!\nDonations to Food Bank Appreciated
URL:https://osoyoosfestivalsociety.ca/event/the-osoyoos-desert-dip-january-1-2025/
LOCATION:Gyro Park\, 15 Park Pl.\, Osoyoos\, BC\, V0H 1V0\, Canada
ATTACH;FMTTYPE=image/jpeg:https://osoyoosfestivalsociety.ca/wp-content/uploads/2025/11/845E9628-EB82-486B-97CF-FED5867C3AD9_1_105_c.jpeg
ORGANIZER;CN="Osoyoos Festival Society":MAILTO:osoyoosfestivals@gmail.com
END:VEVENT
END:VCALENDAR