BEGIN:VCALENDAR
VERSION:2.0
PRODID:-//Osoyoos Festival Society - ECPv6.15.20//NONSGML v1.0//EN
CALSCALE:GREGORIAN
METHOD:PUBLISH
X-WR-CALNAME:Osoyoos Festival Society
X-ORIGINAL-URL:https://osoyoosfestivalsociety.ca
X-WR-CALDESC:Events for Osoyoos Festival Society
REFRESH-INTERVAL;VALUE=DURATION:PT1H
X-Robots-Tag:noindex
X-PUBLISHED-TTL:PT1H
BEGIN:VTIMEZONE
TZID:America/Vancouver
BEGIN:DAYLIGHT
TZOFFSETFROM:-0800
TZOFFSETTO:-0700
TZNAME:PDT
DTSTART:20240310T100000
END:DAYLIGHT
BEGIN:STANDARD
TZOFFSETFROM:-0700
TZOFFSETTO:-0800
TZNAME:PST
DTSTART:20241103T090000
END:STANDARD
BEGIN:DAYLIGHT
TZOFFSETFROM:-0800
TZOFFSETTO:-0700
TZNAME:PDT
DTSTART:20250309T100000
END:DAYLIGHT
BEGIN:STANDARD
TZOFFSETFROM:-0700
TZOFFSETTO:-0800
TZNAME:PST
DTSTART:20251102T090000
END:STANDARD
BEGIN:DAYLIGHT
TZOFFSETFROM:-0800
TZOFFSETTO:-0700
TZNAME:PDT
DTSTART:20260308T100000
END:DAYLIGHT
BEGIN:STANDARD
TZOFFSETFROM:-0700
TZOFFSETTO:-0800
TZNAME:PST
DTSTART:20261101T090000
END:STANDARD
END:VTIMEZONE
BEGIN:VEVENT
DTSTART;TZID=America/Vancouver:20251205T110000
DTEND;TZID=America/Vancouver:20251206T150000
DTSTAMP:20260425T123437
CREATED:20250129T080922Z
LAST-MODIFIED:20251114T212708Z
UID:799-1764932400-1765033200@osoyoosfestivalsociety.ca
SUMMARY:CHRISTMAS LITE-UP - DECEMBER 5th & 6th\, 2025
DESCRIPTION:CHRISTMAS LITE-UP @ Osoyoos Main Street\nFRIDAY\, DECEMBER 5\, 2025 \n7am – 10am –  Desert Sun Counselling & Rotary Club Presents “Toys for Tots to Teens” \nBring an unwrapped toy or cash to Smitty’s and they will give you a free breakfast! \nFrosty will be out front to accept drive-by donations too \n4pm – 7pm – Osoyoos Farmers & Artisan’s Market at the Museum \nMerchant’s Open House on Main Street \n6:30pm – Christmas Parade down Main Street \nosoyoosfestivalsociety.ca for entry forms \n7pm – Christmas Carols with Diane Ball around the bonfire at Gyro Beach \nHot Dogs and Hot Chocolate by donation to the Rotary Club \n8pm – Osoyoos Fireworks on the Beach! \nSATURDAY. DECEMBER 6 \n8am – 11am – Breakfast with Santa at Campo Marina Restaurant  \n$5 – Kids 7 and under free with food bank donation. \nCampo Marina Restaurant – Photos with Santa 9am – 11am \nTHURSDAY\, JANUARY 1\, 2026 \nNoon – 7th Annual “Desert Dip” \nWashrooms open\, heating tent and a bonfire to warm up! \nRegister for Christmas Parade\nParade Details and Route Map \n					\n									Cover Letter & Event Info PDF\n					 \nRegistration Form \n					\n									Parade Entry Form PDF
URL:https://osoyoosfestivalsociety.ca/event/christmas-lite-up-january-1-2025/
LOCATION:Main Street\, 8707 Main St\, Osoyoos\, BC\, V0H 1V4\, Canada
ATTACH;FMTTYPE=image/jpeg:https://osoyoosfestivalsociety.ca/wp-content/uploads/2025/11/2025-Lite-up-2025.jpeg
ORGANIZER;CN="Osoyoos Festival Society":MAILTO:osoyoosfestivals@gmail.com
END:VEVENT
BEGIN:VEVENT
DTSTART;TZID=America/Vancouver:20250404T183000
DTEND;TZID=America/Vancouver:20250404T230000
DTSTAMP:20260425T123437
CREATED:20250228T053258Z
LAST-MODIFIED:20250409T041524Z
UID:1179-1743791400-1743807600@osoyoosfestivalsociety.ca
SUMMARY:MUSIC BINGO - FIREWORKS FUNDRAISER
DESCRIPTION:Thank you to the businesses that contributed to the April 4th\, 2025 Music Bingo Fireworks Fundraiser Silent Auction: Nk’Mip Cellars\, Sonora Spirits Co.\, Gehringer Brothers Estate Winery\, Hester Creek Estate Winery\, Walnut Beach Resort\, Venables Theatre\, Bordertown Cidery & Winery\, Nesters Market\, Osoyoos\, Levia Wellness Spa\, Sonora Dunes Golf Course\, Intersection Estate Winery\, Lakeside Cellars\, Osoyoos Golf Club\, Osoyoos Home Hardware\, Owl Pub\, Save-On Foods\, Osoyoos\, Pharmasave\, Osoyoos\, and Polka Dot Door.
URL:https://osoyoosfestivalsociety.ca/event/music-bingo-fireworks-fundraiser/
LOCATION:Royal Canadian Legion K.Knudtson Branch 173\, 8310 78 Ave\, Osoyoos\, BC\, V0H 1V0\, Canada
ATTACH;FMTTYPE=image/png:https://osoyoosfestivalsociety.ca/wp-content/uploads/2025/02/Copy-of-Instagram-Music-Bingo-Poster-1080-x-1350-px.png.png
ORGANIZER;CN="Osoyoos Festival Society":MAILTO:osoyoosfestivals@gmail.com
END:VEVENT
END:VCALENDAR